BEGIN:VCALENDAR
VERSION:2.0
PRODID:spatie/icalendar-generator
DESCRIPTION:Events from Family Friendly Non-denominational Valley Bible Chu
 rch
X-WR-CALDESC:Events from Family Friendly Non-denominational Valley Bible Ch
 urch
REFRESH-INTERVAL;VALUE=DURATION:PT1440M
X-PUBLISHED-TTL:PT1440M
BEGIN:VTIMEZONE
TZID:America/New_York
BEGIN:DAYLIGHT
DTSTART:20250309T020000Z
TZOFFSETFROM:-0500
TZOFFSETTO:-0400
END:DAYLIGHT
BEGIN:STANDARD
DTSTART:20251102T020000Z
TZOFFSETFROM:-0400
TZOFFSETTO:-0500
END:STANDARD
BEGIN:DAYLIGHT
DTSTART:20260308T020000Z
TZOFFSETFROM:-0500
TZOFFSETTO:-0400
END:DAYLIGHT
END:VTIMEZONE
BEGIN:VTIMEZONE
TZID:UTC
BEGIN:STANDARD
DTSTART:20250726T091108Z
TZOFFSETFROM:+0000
TZOFFSETTO:+0000
END:STANDARD
END:VTIMEZONE
BEGIN:VEVENT
UID:378-12
DTSTAMP:20260422T091108Z
SUMMARY:Ladies' Movie Night
LOCATION:
ORGANIZER;CN=Valley Bible Church:MAILTO:vbcpacific@outlook.com
DTSTART;TZID=America/New_York:20250912T193000
DTEND;TZID=America/New_York:20250912T203000
X-ALT-DESC;FMTTYPE=TEXT/HTML:You are invited to an outdoor movie night at t
 he Ignacio house on Friday\, September 12th. Your ticket will be waiting a
 t the door when you arrive\, which will allow you entrance onto the deck w
 here the movie will start at approximately 8 pm(ish). This year\, we will 
 have MOVIE THEATRE POPCORN! (none of that&amp;hellip\;
CATEGORIES:General
URL;VALUE=URI:https://valleybiblechurchpacific.com/mc-events/ladies-movie-n
 ight/
METHOD:PUBLISH
END:VEVENT
END:VCALENDAR